BEGIN:VCALENDAR
VERSION:2.0
PRODID:-//Biketreff Baar und Cham//NONSGML kigkonsult.se iCalcreator 2.30.1
 0//
CALSCALE:GREGORIAN
METHOD:PUBLISH
UID:f1da5e0a-5f0d-428f-bb75-f2c351c34604
X-WR-CALNAME:iCagenda
X-WR-CALDESC:Event Management Extension for Joomla!
X-WR-RELCALID:3E26604A-50F4-4449-8B3E-E4F4932D05B5
X-WR-TIMEZONE:UTC
BEGIN:VTIMEZONE
TZID:UTC
END:VTIMEZONE
BEGIN:VEVENT
UID:9c0f5422-dcd2-4f8c-9004-d2dbd07637c5
DTSTAMP:20260420T154018Z
CATEGORIES:Sonntagstouren
CLASS:PUBLIC
DESCRIPTION;ALTREP="CID:<FFFF__=0ABBE548DFE235B58f9e8a93d@coffeebean.com>":
 ungefähre Route: Pfäffikon-Rapperswil-Schmerikon-Buechberg-Etzel-Pfäffikon
 \n&nbsp\;\nDetails folgen zu einem späteren Zeitpunkt
DTSTART:20260927T155100Z
DTEND:20260927T155300Z
GEO:00;0
LOCATION:
ORGANIZER:
SEQUENCE:1
SUMMARY:E-Bike Tour Zürcher Obersee
TRANSP:OPAQUE
URL:https://biketreff-baar-cham.ch/index.php/veranstaltungen/50-e-bike-tour
 -zuercher-obersee
END:VEVENT
END:VCALENDAR
