BEGIN:VCALENDAR
VERSION:2.0
PRODID:-//Biketreff Baar und Cham//NONSGML kigkonsult.se iCalcreator 2.30.1
 0//
CALSCALE:GREGORIAN
METHOD:PUBLISH
UID:7faa7ded-4cbd-429c-8b6f-7f7b8f5aa35b
X-WR-CALNAME:iCagenda
X-WR-CALDESC:Event Management Extension for Joomla!
X-WR-RELCALID:3E26604A-50F4-4449-8B3E-E4F4932D05B5
X-WR-TIMEZONE:UTC
BEGIN:VTIMEZONE
TZID:UTC
END:VTIMEZONE
BEGIN:VEVENT
UID:c0ec310e-6983-4e23-a761-285828f56080
DTSTAMP:20260420T153421Z
CATEGORIES:Sonntagstouren
CLASS:PUBLIC
DESCRIPTION;ALTREP="CID:<FFFF__=0ABBE548DFE235B58f9e8a93d@coffeebean.com>":
 Rund um Magglingen und Biel befinden sich die besten Trails der Jurakette.
  Wir fahren die beliebtesten Trails auf der Hügelkette hinunter ins Tal un
 d bequem mit der Seilbahn wieder rauf. Um zu besten Trails zu kommen trete
 n wir in die Pedale und gelangen ins Paradies der Kurven.\nEinige Trails w
 elche wir fahren:\nHohmatt\, Toscana\, Toscana II\, little Fox\, La Morill
 e\, Bamby\, Ibex\, Bielathlon\, Schnüerli\, Nasegrübler\, Nasegrübler II\,
  Wild West\n&nbsp\;\nDie ganz Wagemutigen unter uns können natürlich auch 
 den Bieltrail abfahren und abfeiern :-)\n&nbsp\;\nIndividuelle Anfahrt und
  Rückfahrt mit Auto oder Bahn. Treffpunkt vor dem Funi Macolin\n&nbsp\;\nD
 etails:\nDistanz 35km\nKondition 3 von 6Schwierigkeit 3 von 6Panorama 4 vo
 n 6Spassfaktor 5 von 6\n&nbsp\;\nMitbringen:\nDem Wetter entsprechende Kle
 idung. Bei Regen wirds richtig lustig. Siehe Bild!\ngewartetes Mountainbik
 e\nZwischenverpflegung\nGetränke\n&nbsp\;
DTSTART:20260517T100000Z
DTEND:20260517T160000Z
GEO:00;0
LOCATION:Biel Magglingenbahn/Funi Macolin
ORGANIZER;CN=:martin.wismer@gmail.com
SEQUENCE:1
SUMMARY:Magglingen - Trailnetz
TRANSP:OPAQUE
URL:https://biketreff-baar-cham.ch/index.php/veranstaltungen/47-magglingen-
 trail-testing
END:VEVENT
END:VCALENDAR
